BEGIN:VCALENDAR
VERSION:2.0
PRODID:-//Citroen Car Club - ECPv6.15.18//NONSGML v1.0//EN
CALSCALE:GREGORIAN
METHOD:PUBLISH
X-ORIGINAL-URL:https://citroencarclub.us
X-WR-CALDESC:Events for Citroen Car Club
REFRESH-INTERVAL;VALUE=DURATION:PT1H
X-Robots-Tag:noindex
X-PUBLISHED-TTL:PT1H
BEGIN:VTIMEZONE
TZID:America/Los_Angeles
BEGIN:DAYLIGHT
TZOFFSETFROM:-0800
TZOFFSETTO:-0700
TZNAME:PDT
DTSTART:20230312T100000
END:DAYLIGHT
BEGIN:STANDARD
TZOFFSETFROM:-0700
TZOFFSETTO:-0800
TZNAME:PST
DTSTART:20231105T090000
END:STANDARD
BEGIN:DAYLIGHT
TZOFFSETFROM:-0800
TZOFFSETTO:-0700
TZNAME:PDT
DTSTART:20240310T100000
END:DAYLIGHT
BEGIN:STANDARD
TZOFFSETFROM:-0700
TZOFFSETTO:-0800
TZNAME:PST
DTSTART:20241103T090000
END:STANDARD
BEGIN:DAYLIGHT
TZOFFSETFROM:-0800
TZOFFSETTO:-0700
TZNAME:PDT
DTSTART:20250309T100000
END:DAYLIGHT
BEGIN:STANDARD
TZOFFSETFROM:-0700
TZOFFSETTO:-0800
TZNAME:PST
DTSTART:20251102T090000
END:STANDARD
END:VTIMEZONE
BEGIN:VEVENT
DTSTART;TZID=America/Los_Angeles:20241208T180000
DTEND;TZID=America/Los_Angeles:20241208T210000
DTSTAMP:20260421T032342
CREATED:20221120T011618Z
LAST-MODIFIED:20241027T205046Z
UID:1524-1733680800-1733691600@citroencarclub.us
SUMMARY:Fête de Noël 2024
DESCRIPTION:SUNDAY DECEMBER 8  6:00 – 9:00\nFrench car gathering and dinner at the historic Taix French restaurant!\nPlenty of off street parking\, Bring your French car!\n\nDinners include salad\, French bread and dessert. \nChoose from: \nFilet of Sole Meuniere – Sauteed with a Lemon Butter Cream Sauce \nTaix Roast Chicken Diable – Grilled\, served with Lemon Butter\, White Wine\, Garlic Mustard\, Shallots and Capers Sauce\n \nPortobello Risotto –  (Vegetarian)  Baby spinach\, cream\, parmesan cheese \nNo Host bar in the banquet room \nMAKE YOUR RESERVATION NOW\n\n\n	Notice: JavaScript is required for this content.\n\n\n    \n\n\n        \n        \n        \n\n\n\n    \n    \n    \n    \n    \n    \n        \n            \n            \n        \n        \n            \n            \n        \n    \n    \n    \n        Billing Address\n        \n            \n        \n        \n            \n        \n        \n            \n                \n                    \n                    \n                \n                \n            \n            \n                \n                    \n                    \n                \n            \n        \n        \n            \n                \n                    \n                \n            \n            \n                \n                    \n                \n            \n        \n    \n    \n    Pay Now    \n\n\n\n\n\n\n\n\nFields marked with an * are required\n\n\n\n\n\n\n\nPlease fill in your details in this form. You will be directed to PayPal to complete your reservation.
URL:https://citroencarclub.us/newevents/fete-de-noel-2024/
LOCATION:Taix French Restaurant\, 1911 W. Sunset Boulevard\, Los Angeles\, CA\, 90026\, United States
END:VEVENT
BEGIN:VEVENT
DTSTART;TZID=America/Los_Angeles:20241214T090000
DTEND;TZID=America/Los_Angeles:20241214T120000
DTSTAMP:20260421T032342
CREATED:20241201T000516Z
LAST-MODIFIED:20241201T000516Z
UID:1989-1734166800-1734177600@citroencarclub.us
SUMMARY:Car Club Invite - Honda HQ and Museum December 14
DESCRIPTION:Email Jean Francois (JF) Martin marrsautomotive@gmail.com \nfor directions to meet up
URL:https://citroencarclub.us/newevents/car-club-invite-honda-hq-and-museum-december-14/
LOCATION:American Honda Collection Hall\, 1919 Torrance Blvd.\, Torrrance\, CA\, 90501\, United States
END:VEVENT
END:VCALENDAR